BEGIN:VCALENDAR
VERSION:2.0
PRODID:-//Shenandoah 258 - ECPv6.15.20//NONSGML v1.0//EN
CALSCALE:GREGORIAN
METHOD:PUBLISH
X-WR-CALNAME:Shenandoah 258
X-ORIGINAL-URL:https://www.shenandoahlodge.org
X-WR-CALDESC:Events for Shenandoah 258
REFRESH-INTERVAL;VALUE=DURATION:PT1H
X-Robots-Tag:noindex
X-PUBLISHED-TTL:PT1H
BEGIN:VTIMEZONE
TZID:America/New_York
BEGIN:DAYLIGHT
TZOFFSETFROM:-0500
TZOFFSETTO:-0400
TZNAME:EDT
DTSTART:20180311T070000
END:DAYLIGHT
BEGIN:STANDARD
TZOFFSETFROM:-0400
TZOFFSETTO:-0500
TZNAME:EST
DTSTART:20181104T060000
END:STANDARD
BEGIN:DAYLIGHT
TZOFFSETFROM:-0500
TZOFFSETTO:-0400
TZNAME:EDT
DTSTART:20190310T070000
END:DAYLIGHT
BEGIN:STANDARD
TZOFFSETFROM:-0400
TZOFFSETTO:-0500
TZNAME:EST
DTSTART:20191103T060000
END:STANDARD
BEGIN:DAYLIGHT
TZOFFSETFROM:-0500
TZOFFSETTO:-0400
TZNAME:EDT
DTSTART:20200308T070000
END:DAYLIGHT
BEGIN:STANDARD
TZOFFSETFROM:-0400
TZOFFSETTO:-0500
TZNAME:EST
DTSTART:20201101T060000
END:STANDARD
BEGIN:DAYLIGHT
TZOFFSETFROM:-0500
TZOFFSETTO:-0400
TZNAME:EDT
DTSTART:20210314T070000
END:DAYLIGHT
BEGIN:STANDARD
TZOFFSETFROM:-0400
TZOFFSETTO:-0500
TZNAME:EST
DTSTART:20211107T060000
END:STANDARD
BEGIN:DAYLIGHT
TZOFFSETFROM:-0500
TZOFFSETTO:-0400
TZNAME:EDT
DTSTART:20220313T070000
END:DAYLIGHT
BEGIN:STANDARD
TZOFFSETFROM:-0400
TZOFFSETTO:-0500
TZNAME:EST
DTSTART:20221106T060000
END:STANDARD
END:VTIMEZONE
BEGIN:VEVENT
DTSTART;VALUE=DATE:20210519
DTEND;VALUE=DATE:20220101
DTSTAMP:20260421T132000
CREATED:20210520T011232Z
LAST-MODIFIED:20210910T195653Z
UID:3246-1621382400-1640995199@www.shenandoahlodge.org
SUMMARY:2021 Dues
DESCRIPTION:Annual dues for members.
URL:https://www.shenandoahlodge.org/event/2021-dues/
CATEGORIES:Lodge Wide Event
END:VEVENT
BEGIN:VEVENT
DTSTART;TZID=America/New_York:20210515T100000
DTEND;TZID=America/New_York:20210515T160000
DTSTAMP:20260421T132000
CREATED:20210411T170706Z
LAST-MODIFIED:20210511T165401Z
UID:3152-1621072800-1621094400@www.shenandoahlodge.org
SUMMARY:Council Dinner Set-up & Fun Day
DESCRIPTION:The Lodge will be helping to setup the Council Dinner at Camp Shenandoah on the following day. We will also be holding our LEC at the Camp during the event. Bring your own food. No fee\, but please let us know that you’re attending!
URL:https://www.shenandoahlodge.org/event/council-dinner-set-up-fun-day/
LOCATION:Camp Shenandoah\, 222 Boy Scout Lane\, Swoope\, VA\, 24479\, United States
CATEGORIES:Lodge Wide Event
ATTACH;FMTTYPE=image/jpeg:https://www.shenandoahlodge.org/wp-content/uploads/2019/11/slider_image_lakehope.jpg
END:VEVENT
BEGIN:VEVENT
DTSTART;TZID=America/New_York:20210512T190000
DTEND;TZID=America/New_York:20210512T200000
DTSTAMP:20260421T132000
CREATED:20210502T144630Z
LAST-MODIFIED:20210508T170633Z
UID:2623-1620846000-1620849600@www.shenandoahlodge.org
SUMMARY:May Saponi Chapter Meeting
DESCRIPTION:  \nJoin us for our monthly Chapter meeting by clicking here:  Zoom Link
URL:https://www.shenandoahlodge.org/event/saponi-chapter-meeting-3/
LOCATION:Virtual
CATEGORIES:Saponi Chapter Meetings
END:VEVENT
BEGIN:VEVENT
DTSTART;VALUE=DATE:20210423
DTEND;VALUE=DATE:20210426
DTSTAMP:20260421T132000
CREATED:20210411T165312Z
LAST-MODIFIED:20210411T165312Z
UID:3147-1619136000-1619395199@www.shenandoahlodge.org
SUMMARY:National Virtual Event Momentum Discover
DESCRIPTION:The Order of the Arrow’s national leadership invites you to join us for Momentum: Discover\, a national virtual event taking place from April 23-24! After months of isolation and quarantine\, it’s time to get back into the outdoors! At Momentum: Discover\, we’ll come together as a movement to prepare for a successful summer camp season and recommit ourselves to the joys of camping and the outdoors. \nCurrent OA members and non-Arrowmen are encouraged to join us for a weekend of fun\, trainings\, competitions\, games\, and more! With more than 20 hours of original programming\, you surely won’t want to miss out on exciting updates and interactive games with your 2021 national officers. \nAnyone can view the live stream of the Momentum: Discover content at no cost\, and no registration is required. The programming will be publicly available online. However\, premium delegates\, for a fee of $25\, will receive exclusive benefits during this special event experience\, including: \n\nA mailed patch and sticker.\nAccess to an archive of streamed program content to view anytime.\nA chance to participate in the event-wide game.\nAccess to the Momentum community platform\, Slack\, to connect with Arrowmen from across the nation.\nAdditional opportunities for engagement and interaction.\n\nWe hope to see you at Momentum: Discover in April! Registration is now open at registration.oa-bsa.org.
URL:https://www.shenandoahlodge.org/event/national-virtual-event-momentum-discover/
LOCATION:Virtual
CATEGORIES:National Events
ATTACH;FMTTYPE=image/jpeg:https://www.shenandoahlodge.org/wp-content/uploads/2021/04/momentum_discover.jpg
END:VEVENT
BEGIN:VEVENT
DTSTART;TZID=America/New_York:20210409T170000
DTEND;TZID=America/New_York:20210410T210000
DTSTAMP:20260421T132000
CREATED:20210319T225055Z
LAST-MODIFIED:20210319T225124Z
UID:3087-1617987600-1618088400@www.shenandoahlodge.org
SUMMARY:Spring Fellowship 2021
DESCRIPTION:Register Here – https://events.r20.constantcontact.com/register/eventReg?oeidk=a07ehjq8o0ta5dcd3bb&oseq=&c=&ch=
URL:https://www.shenandoahlodge.org/event/spring-fellowship-2021/
LOCATION:Camp Shenandoah\, 222 Boy Scout Lane\, Swoope\, VA\, 24479\, United States
CATEGORIES:Lodge Wide Event
END:VEVENT
BEGIN:VEVENT
DTSTART;TZID=America/New_York:20210312T190000
DTEND;TZID=America/New_York:20210313T190000
DTSTAMP:20260421T132000
CREATED:20201219T154923Z
LAST-MODIFIED:20210227T184046Z
UID:2873-1615575600-1615662000@www.shenandoahlodge.org
SUMMARY:FORGE
DESCRIPTION:
URL:https://www.shenandoahlodge.org/event/forge/
LOCATION:Virtual
CATEGORIES:Lodge Wide Event
ORGANIZER;CN="Eli Hattersley":MAILTO:chief@shenandoahlodge.org
END:VEVENT
BEGIN:VEVENT
DTSTART;TZID=America/New_York:20210116T190000
DTEND;TZID=America/New_York:20210116T200000
DTSTAMP:20260421T132000
CREATED:20201219T155049Z
LAST-MODIFIED:20210116T234414Z
UID:2878-1610823600-1610827200@www.shenandoahlodge.org
SUMMARY:Winter Banquet 2021
DESCRIPTION:Which design would you like to see on our new Elangomat flap?\n	\n		\n	\n		 Bear Mountain Scene\n	\n\n	\n		 Green Bear\n	\n\n	\n	Results\nPoll Options are limited because JavaScript is disabled in your browser.\n\n\n  \n    \n    \n    \n    \n  \n  \n    \n    \n    \n    \n  \n  \n    \n    \n    \n    \n  \n\n\n\nTap picture to enlarge! \nGreen Bear \nMountain Scene
URL:https://www.shenandoahlodge.org/event/winter-banquet-2021/
LOCATION:Virtual
CATEGORIES:Lodge Wide Event
ORGANIZER;CN="Eli Hattersley":MAILTO:chief@shenandoahlodge.org
END:VEVENT
BEGIN:VEVENT
DTSTART;VALUE=DATE:20201107
DTEND;VALUE=DATE:20201108
DTSTAMP:20260421T132000
CREATED:20200422T204521Z
LAST-MODIFIED:20200422T204521Z
UID:2452-1604707200-1604793599@www.shenandoahlodge.org
SUMMARY:One Day of Service
DESCRIPTION:Details to come soon!
URL:https://www.shenandoahlodge.org/event/one-day-of-service-2/
END:VEVENT
BEGIN:VEVENT
DTSTART;TZID=America/New_York:20201016T190000
DTEND;TZID=America/New_York:20201017T110000
DTSTAMP:20260421T132000
CREATED:20200422T204429Z
LAST-MODIFIED:20201010T154341Z
UID:2449-1602874800-1602932400@www.shenandoahlodge.org
SUMMARY:Fall Fellowship 2020
DESCRIPTION:The last fellowship of the year\, with the final Ordeal and Brotherhood opportunities for 2020. Please note that the Ordeal will end at 11 AM on Saturday!  The Lodge Fellowship will take place from 1PM to 7PM on Saturday. Email chief@shenandoahlodge.org with any questions.
URL:https://www.shenandoahlodge.org/event/fall-fellowship-2020/
LOCATION:Camp Shenandoah\, 222 Boy Scout Lane\, Swoope\, VA\, 24479\, United States
END:VEVENT
BEGIN:VEVENT
DTSTART;TZID=America/New_York:20200909T190000
DTEND;TZID=America/New_York:20200909T200000
DTSTAMP:20260421T132000
CREATED:20191128T174002Z
LAST-MODIFIED:20200618T172731Z
UID:314-1599678000-1599681600@www.shenandoahlodge.org
SUMMARY:Saponi Chapter Meeting
DESCRIPTION:
URL:https://www.shenandoahlodge.org/event/saponi-chapter-meeting/
LOCATION:Westminister Presbyterian Church.\, 400 Rugby Road\, Charlottesville\, VA\, 22903\, United States
CATEGORIES:Saponi Chapter Meetings
END:VEVENT
BEGIN:VEVENT
DTSTART;TZID=America/New_York:20200908T190000
DTEND;TZID=America/New_York:20200908T200000
DTSTAMP:20260421T132000
CREATED:20191128T165305Z
LAST-MODIFIED:20200618T172655Z
UID:306-1599591600-1599595200@www.shenandoahlodge.org
SUMMARY:Monocan Chapter Meeting
DESCRIPTION:
URL:https://www.shenandoahlodge.org/event/monocan-chapter-meeting/
LOCATION:Asbury United Methodist Church\, 205 S Main St\, Harrisonburg\, VA\, 22801\, United States
CATEGORIES:Monocan Chapter Meetings
END:VEVENT
BEGIN:VEVENT
DTSTART;TZID=America/New_York:20200903T190000
DTEND;TZID=America/New_York:20200903T200000
DTSTAMP:20260421T132000
CREATED:20191127T230917Z
LAST-MODIFIED:20200618T172509Z
UID:270-1599159600-1599163200@www.shenandoahlodge.org
SUMMARY:Achewon Allohak Chapter Meeting
DESCRIPTION:
URL:https://www.shenandoahlodge.org/event/achewon-allohak-chapter-meeting/
LOCATION:Sharon Elementary School\, 100 Sharon School Cir\, Clifton Forge\, VA\, 24422\, United States
CATEGORIES:AA Chapter Meetings
END:VEVENT
BEGIN:VEVENT
DTSTART;TZID=America/New_York:20200901T190000
DTEND;TZID=America/New_York:20200901T200000
DTSTAMP:20260421T132000
CREATED:20191128T175555Z
LAST-MODIFIED:20200618T172348Z
UID:322-1598986800-1598990400@www.shenandoahlodge.org
SUMMARY:Nagataman Chapter Meeting
DESCRIPTION:
URL:https://www.shenandoahlodge.org/event/nagataman-chapter-meeting/
LOCATION:Fishersville United Methodist\, 1600 Jefferson Hwy\, Fishersville\, VA\, 22939\, United States
CATEGORIES:Nagataman Chapter Meetings
END:VEVENT
BEGIN:VEVENT
DTSTART;TZID=America/New_York:20200814T173000
DTEND;TZID=America/New_York:20200816T120000
DTSTAMP:20260421T132000
CREATED:20200422T203812Z
LAST-MODIFIED:20200620T134235Z
UID:2444-1597426200-1597579200@www.shenandoahlodge.org
SUMMARY:August Fellowship
DESCRIPTION:A full Fellowship weekend with opportunities for the completion of the Ordeal and Brotherhood\, the only opportunity to see the 2020 Vigil Call-Out Ceremony\, Golden Arrow activities\, Conclave preparations\, and Lodge leadership elections. \nClick HERE to Register
URL:https://www.shenandoahlodge.org/event/august-fellowship/
LOCATION:Camp Shenandoah\, 222 Boy Scout Lane\, Swoope\, VA\, 24479\, United States
CATEGORIES:Lodge Wide Event
ORGANIZER;CN="Eli Hattersley":MAILTO:chief@shenandoahlodge.org
END:VEVENT
BEGIN:VEVENT
DTSTART;TZID=America/New_York:20200812T190000
DTEND;TZID=America/New_York:20200812T200000
DTSTAMP:20260421T132000
CREATED:20200812T161956Z
LAST-MODIFIED:20200618T165709Z
UID:2627-1597258800-1597262400@www.shenandoahlodge.org
SUMMARY:Saponi Chapter Meeting
DESCRIPTION:
URL:https://www.shenandoahlodge.org/event/saponi-chapter-meeting-2/
LOCATION:Westminister Presbyterian Church.\, 400 Rugby Road\, Charlottesville\, VA\, 22903\, United States
CATEGORIES:Saponi Chapter Meetings
END:VEVENT
BEGIN:VEVENT
DTSTART;TZID=America/New_York:20200811T190000
DTEND;TZID=America/New_York:20200811T200000
DTSTAMP:20260421T132000
CREATED:20200618T164710Z
LAST-MODIFIED:20200618T164710Z
UID:2631-1597172400-1597176000@www.shenandoahlodge.org
SUMMARY:Monocan Chapter Meeting
DESCRIPTION:
URL:https://www.shenandoahlodge.org/event/monocan-chapter-meeting-2/
LOCATION:Asbury United Methodist Church\, 205 S Main St\, Harrisonburg\, VA\, 22801\, United States
CATEGORIES:Monocan Chapter Meetings
END:VEVENT
BEGIN:VEVENT
DTSTART;TZID=America/New_York:20200806T190000
DTEND;TZID=America/New_York:20200806T200000
DTSTAMP:20260421T132000
CREATED:20200618T161900Z
LAST-MODIFIED:20200618T165143Z
UID:2624-1596740400-1596744000@www.shenandoahlodge.org
SUMMARY:Achewon Allohak Chapter Meeting
DESCRIPTION:
URL:https://www.shenandoahlodge.org/event/achewon-allohak-chapter-meeting-2/
LOCATION:Sharon Elementary School\, 100 Sharon School Cir\, Clifton Forge\, VA\, 24422\, United States
CATEGORIES:AA Chapter Meetings
END:VEVENT
BEGIN:VEVENT
DTSTART;TZID=America/New_York:20200804T190000
DTEND;TZID=America/New_York:20200804T200000
DTSTAMP:20260421T132000
CREATED:20200618T165939Z
LAST-MODIFIED:20200618T165939Z
UID:2636-1596567600-1596571200@www.shenandoahlodge.org
SUMMARY:Nagatamen Chapter Meeting
DESCRIPTION:
URL:https://www.shenandoahlodge.org/event/nagatamen-chapter-meeting/
CATEGORIES:Nagataman Chapter Meetings
END:VEVENT
BEGIN:VEVENT
DTSTART;TZID=America/New_York:20200606T100000
DTEND;TZID=America/New_York:20200606T160000
DTSTAMP:20260421T132000
CREATED:20200507T025705Z
LAST-MODIFIED:20200516T034615Z
UID:2461-1591437600-1591459200@www.shenandoahlodge.org
SUMMARY:June Fellowship (Zoom)
DESCRIPTION:Click Here to register
URL:https://www.shenandoahlodge.org/event/june-fellowship-zoom/
END:VEVENT
BEGIN:VEVENT
DTSTART;TZID=America/New_York:20200313T170000
DTEND;TZID=America/New_York:20200315T110000
DTSTAMP:20260421T132000
CREATED:20191017T174636Z
LAST-MODIFIED:20200108T144440Z
UID:42-1584118800-1584270000@www.shenandoahlodge.org
SUMMARY:Spring Fellowship 2020
DESCRIPTION:
URL:https://www.shenandoahlodge.org/event/spring-fellowship-2020/
LOCATION:Camp Shenandoah\, 222 Boy Scout Lane\, Swoope\, VA\, 24479\, United States
END:VEVENT
BEGIN:VEVENT
DTSTART;TZID=America/New_York:20200216T153000
DTEND;TZID=America/New_York:20200216T170000
DTSTAMP:20260421T132000
CREATED:20191017T174527Z
LAST-MODIFIED:20191017T174527Z
UID:40-1581867000-1581872400@www.shenandoahlodge.org
SUMMARY:Lodge Executive Committee Meeting Feb 2020
DESCRIPTION:
URL:https://www.shenandoahlodge.org/event/lodge-executive-committee-meeting-feb-2020/
LOCATION:SJAC Service Center\, 801 Hopeman Pkwy\, Waynesboro\, VA\, 22980\, United States
END:VEVENT
BEGIN:VEVENT
DTSTART;TZID=America/New_York:20200119T153000
DTEND;TZID=America/New_York:20200119T170000
DTSTAMP:20260421T132000
CREATED:20191017T174420Z
LAST-MODIFIED:20191017T174744Z
UID:38-1579447800-1579453200@www.shenandoahlodge.org
SUMMARY:Lodge Executive Committee Meeting Jan 2020
DESCRIPTION:
URL:https://www.shenandoahlodge.org/event/lodge-executive-committee-meeting-jan-2020/
END:VEVENT
BEGIN:VEVENT
DTSTART;TZID=America/New_York:20200104T170000
DTEND;TZID=America/New_York:20200104T200000
DTSTAMP:20260421T132000
CREATED:20191017T174319Z
LAST-MODIFIED:20191217T030112Z
UID:36-1578157200-1578168000@www.shenandoahlodge.org
SUMMARY:Winter Banquet 2020
DESCRIPTION:We are closing in on the Lodge’s annual Winter Banquet! This event is one of the most highly anticipated events of the year and a great way to get more involved with the lodge! Registration is LIVE and I would like to make clear that there will be absolutely NO onsite registration!  All attendees must register in advance and the price will go up on DEC. 25th. Registration closes on December 31\, 2019. This event is one for the whole family! So\, come on out and enjoy an incredible meal as well as a time for reflection for all the accomplishments the lodge has made in the past year! Click Here to Register for Winter Banquet!  Below is the specific information provided by the host chapter! \n\nThis is the final event of our 75th Anniversary.  The Saponi chapter is working hard to make this truly a memorable event.\nArrowmen attending Winter Banquet should plan to arrive at 5 pm.   This will give you time to visit all of the Historic Displays\, Conclave Table\, NOAC table\, OA High Adventure\, the Photo Booth\, and the “Time Capsule”.\nThere will be no on-site registration!  Be sure to pre-register at https://events.r20.constantcontact.com/register/eventReg?oeidk=a07egpbz9z5c6b7a0dd&oseq=&c=&ch=\nThere are reduced prices for children under 11\, and children under 5 eat for free (no patch included with children tickets)\nAny Arrowman wanting to help set-up should plan on arriving at 3:30 pm.\n\nIf you want to help with setup or clean up\, please register here.\nTime Capsule Guidelines: \nAt the 75th Anniversary Winter Banquet\, the lodge will be filling a 25-Year Time Capsule.  We are inviting all Arrowmen to participate in this fun event. \n\nIt is a 25-year Time Capsule- to be opened by the lodge at the 100th Anniversary Winter Banquet.\nEach Arrowman can add 1 small item to the Time capsule at the Winter Banquet (if you are unable to attend\, send your item with another Arrowman or contact Randy Seelye- see below)\nIf you have an option\, use acid-free paper.\nPhotos/patches will be placed in protective sleeves.\nYou should make sure your name is on your item.  Be sure to label all the pictures.\nDigital technology might not be effective as we do not know what technology will be in 2044.\nIf you have stickers you want to stick on the outside of the capsule- be sure to bring them!!\n\nIf you have any questions\, please contact Randy Seelye at seelyers@gmail.com
URL:https://www.shenandoahlodge.org/event/winter-banquet-2020/
LOCATION:American Legion Post 74\, 3025 Louisa Rd.\, Charlottesville\, VA\, 22947\, United States
ORGANIZER;CN="Randy Seeyle":MAILTO:seelyers@gmail.com
END:VEVENT
BEGIN:VEVENT
DTSTART;TZID=America/New_York:20191215T153000
DTEND;TZID=America/New_York:20191215T170000
DTSTAMP:20260421T132000
CREATED:20191017T174238Z
LAST-MODIFIED:20191017T174821Z
UID:34-1576423800-1576429200@www.shenandoahlodge.org
SUMMARY:Lodge Executive Committee Meeting Dec 2019
DESCRIPTION:
URL:https://www.shenandoahlodge.org/event/lodge-executive-committee-meeting-dec-2019/
LOCATION:SJAC Service Center\, 801 Hopeman Pkwy\, Waynesboro\, VA\, 22980\, United States
END:VEVENT
BEGIN:VEVENT
DTSTART;TZID=America/New_York:20191117T153000
DTEND;TZID=America/New_York:20191117T170000
DTSTAMP:20260421T132000
CREATED:20191017T174027Z
LAST-MODIFIED:20191017T174806Z
UID:29-1574004600-1574010000@www.shenandoahlodge.org
SUMMARY:Lodge Executive Committee Meeting Nov 2019
DESCRIPTION:
URL:https://www.shenandoahlodge.org/event/lodge-executive-committee-meeting-nov-2019/
LOCATION:SJAC Service Center\, 801 Hopeman Pkwy\, Waynesboro\, VA\, 22980\, United States
END:VEVENT
BEGIN:VEVENT
DTSTART;TZID=America/New_York:20191102T090000
DTEND;TZID=America/New_York:20191102T160000
DTSTAMP:20260421T132000
CREATED:20191017T173905Z
LAST-MODIFIED:20191017T173905Z
UID:26-1572685200-1572710400@www.shenandoahlodge.org
SUMMARY:One Day of Service
DESCRIPTION:
URL:https://www.shenandoahlodge.org/event/one-day-of-service/
LOCATION:Hillandale Park\, 801 Hillandale Avenue\, Harrisonburg\, VA\, 22801\, United States
END:VEVENT
BEGIN:VEVENT
DTSTART;TZID=America/New_York:20191019T150000
DTEND;TZID=America/New_York:20191021T090000
DTSTAMP:20260421T132000
CREATED:20191017T223641Z
LAST-MODIFIED:20191017T223641Z
UID:22-1571497200-1571648400@www.shenandoahlodge.org
SUMMARY:Fall Fellowhsip
DESCRIPTION:
URL:https://www.shenandoahlodge.org/event/fall-fellowhsip/
LOCATION:Camp Shenandoah\, 222 Boy Scout Lane\, Swoope\, VA\, 24479\, United States
END:VEVENT
END:VCALENDAR