BEGIN:VCALENDAR
VERSION:2.0
PRODID:-//Shenandoah 258 - ECPv6.15.20//NONSGML v1.0//EN
CALSCALE:GREGORIAN
METHOD:PUBLISH
X-WR-CALNAME:Shenandoah 258
X-ORIGINAL-URL:https://www.shenandoahlodge.org
X-WR-CALDESC:Events for Shenandoah 258
REFRESH-INTERVAL;VALUE=DURATION:PT1H
X-Robots-Tag:noindex
X-PUBLISHED-TTL:PT1H
BEGIN:VTIMEZONE
TZID:America/New_York
BEGIN:DAYLIGHT
TZOFFSETFROM:-0500
TZOFFSETTO:-0400
TZNAME:EDT
DTSTART:20190310T070000
END:DAYLIGHT
BEGIN:STANDARD
TZOFFSETFROM:-0400
TZOFFSETTO:-0500
TZNAME:EST
DTSTART:20191103T060000
END:STANDARD
BEGIN:DAYLIGHT
TZOFFSETFROM:-0500
TZOFFSETTO:-0400
TZNAME:EDT
DTSTART:20200308T070000
END:DAYLIGHT
BEGIN:STANDARD
TZOFFSETFROM:-0400
TZOFFSETTO:-0500
TZNAME:EST
DTSTART:20201101T060000
END:STANDARD
BEGIN:DAYLIGHT
TZOFFSETFROM:-0500
TZOFFSETTO:-0400
TZNAME:EDT
DTSTART:20210314T070000
END:DAYLIGHT
BEGIN:STANDARD
TZOFFSETFROM:-0400
TZOFFSETTO:-0500
TZNAME:EST
DTSTART:20211107T060000
END:STANDARD
BEGIN:DAYLIGHT
TZOFFSETFROM:-0500
TZOFFSETTO:-0400
TZNAME:EDT
DTSTART:20220313T070000
END:DAYLIGHT
BEGIN:STANDARD
TZOFFSETFROM:-0400
TZOFFSETTO:-0500
TZNAME:EST
DTSTART:20221106T060000
END:STANDARD
BEGIN:DAYLIGHT
TZOFFSETFROM:-0500
TZOFFSETTO:-0400
TZNAME:EDT
DTSTART:20230312T070000
END:DAYLIGHT
BEGIN:STANDARD
TZOFFSETFROM:-0400
TZOFFSETTO:-0500
TZNAME:EST
DTSTART:20231105T060000
END:STANDARD
BEGIN:DAYLIGHT
TZOFFSETFROM:-0500
TZOFFSETTO:-0400
TZNAME:EDT
DTSTART:20240310T070000
END:DAYLIGHT
BEGIN:STANDARD
TZOFFSETFROM:-0400
TZOFFSETTO:-0500
TZNAME:EST
DTSTART:20241103T060000
END:STANDARD
END:VTIMEZONE
BEGIN:VEVENT
DTSTART;TZID=America/New_York:20230107T163000
DTEND;TZID=America/New_York:20230107T163000
DTSTAMP:20260421T102352
CREATED:20221207T040511Z
LAST-MODIFIED:20230101T001808Z
UID:6004-1673109000-1673109000@www.shenandoahlodge.org
SUMMARY:Winter Banquet 2023
DESCRIPTION:Celebrate the past year of brotherhood and ring in the new year with your brothers! Join us for an evening of brotherhood\, food\, and fellowship. The evening will include a look back on 2022\, a look ahead on 2023\, awards and more! ONLY 75 TICKETS AVAILABLE\, REGISTER TODAY! There will be no on-site registration.  \nAwards presented at Winter Banquet include\, \n\nFirst Year Arrowman Award\nFounders Award\nJames E. West Fellow\n& More!\n\nOf note for this year’s banquet: \n\nBrothers attending should plan to arrive at 4:30pm\, giving ample time for fellowship before the program begins\nBrothers who wish to help set-up should arrive at 3;30\, please RSVP here if you wish to help with set-up\nThere are reduced prices for children under 11\n\n  \n 
URL:https://www.shenandoahlodge.org/event/winter-banquet-2023/
LOCATION:Crozet United Methodist Church\, 1156 Crozet Ave\, Crozet\, VA\, 22932\, United States
CATEGORIES:Lodge Wide Event
END:VEVENT
BEGIN:VEVENT
DTSTART;TZID=America/New_York:20221105T090000
DTEND;TZID=America/New_York:20221105T150000
DTSTAMP:20260421T102352
CREATED:20211204T184241Z
LAST-MODIFIED:20221028T001214Z
UID:4203-1667638800-1667660400@www.shenandoahlodge.org
SUMMARY:One Day of Service 2022
DESCRIPTION:Trailwork at Heyward Community Forest\, Charlottesville. \nhttps://www.charlottesville.gov/Facilities/Facility/Details/Heyward-Community-Forest-66
URL:https://www.shenandoahlodge.org/event/one-day-of-service-2022/
LOCATION:VA
CATEGORIES:Lodge Wide Event
END:VEVENT
BEGIN:VEVENT
DTSTART;TZID=America/New_York:20221014T170000
DTEND;TZID=America/New_York:20221016T100000
DTSTAMP:20260421T102352
CREATED:20211204T184120Z
LAST-MODIFIED:20230826T225248Z
UID:4200-1665766800-1665914400@www.shenandoahlodge.org
SUMMARY:Lodge Retreat 2022
DESCRIPTION:Based on leadership development and team building. Lodge Elections will occur at this event. Opportunity to identify and build committees for the upcoming Lodge Year. Members who completed their Ordeal in June or August of 2022 are invited to come to this at no cost! \n  \nRegister before October 11 to avoid a $5 late registration fee!
URL:https://www.shenandoahlodge.org/event/lodge-retreat-2022/
LOCATION:VA
CATEGORIES:Lodge Wide Event
END:VEVENT
BEGIN:VEVENT
DTSTART;TZID=America/New_York:20220909T170000
DTEND;TZID=America/New_York:20220910T170000
DTSTAMP:20260421T102352
CREATED:20211204T183542Z
LAST-MODIFIED:20230805T040641Z
UID:4197-1662742800-1662829200@www.shenandoahlodge.org
SUMMARY:Vigil Weekend
DESCRIPTION:A weekend devoted to strengthening the ties of Brotherhood within our Vigil Honor brothers. Open to all members of the Vigil Honor. Check-in on Friday will end at 8\, and breakfast on Saturday is scheduled for 6:30
URL:https://www.shenandoahlodge.org/event/vigil-weekend/
LOCATION:Camp Shenandoah\, 222 Boy Scout Lane\, Swoope\, VA\, 24479\, United States
CATEGORIES:Lodge Wide Event
END:VEVENT
BEGIN:VEVENT
DTSTART;TZID=America/New_York:20220812T170000
DTEND;TZID=America/New_York:20220814T100000
DTSTAMP:20260421T102352
CREATED:20211123T195605Z
LAST-MODIFIED:20220822T063028Z
UID:4116-1660323600-1660471200@www.shenandoahlodge.org
SUMMARY:August Induction 2022
DESCRIPTION:Join us at Camp Shenandoah for our second induction opportunity of the year! We will be offering the opportunity to complete your Ordeal and Brotherhood. We will also be having our annual Vigil callout ceremony.
URL:https://www.shenandoahlodge.org/event/august-induction-2022/
LOCATION:Camp Shenandoah\, 222 Boy Scout Lane\, Swoope\, VA\, 24479\, United States
CATEGORIES:Lodge Wide Event
ATTACH;FMTTYPE=image/png:https://www.shenandoahlodge.org/wp-content/uploads/2021/08/2021-Conclave-Background.png
END:VEVENT
BEGIN:VEVENT
DTSTART;TZID=America/New_York:20220725T060000
DTEND;TZID=America/New_York:20220730T170000
DTSTAMP:20260421T102352
CREATED:20210911T155809Z
LAST-MODIFIED:20220524T225318Z
UID:3826-1658728800-1659200400@www.shenandoahlodge.org
SUMMARY:NOAC 2022
DESCRIPTION:National Order of the Arrow Annual Conference\nJuly 25-30\, 2022\nUniversity of Tennessee \nFor those of you who have never attended NOAC\, it is the premier event of the Order of the Arrow and is Scouting’s second-largest national event after the National Jamboree. The theme for NOAC 2022 is Tomorrow Begins Today. In 2022\, several thousand Arrowmen from across our nation are expected to gather at the University of Tennessee in Knoxville during the week of 25-30 July. \nAt NOAC\, you will gain a deeper understanding of what it means to “live” the words of the Scout Oath and Law each day; a renewed spirit\, pride\, and enthusiasm for Scouting and the Order of the Arrow; new ideas and new training to better serve Scouting at all levels; enhanced leadership skills for carrying out our Lodge’s work; new friendships with Arrowmen from across the country; and memories which will truly last a lifetime! You will participate in a wide variety of spirited OA shows\, sporting competitions\, ceremonial training and competitions\, camping and high-adventure promotions and training\, patch trading like you’ve never seen before\, and much\, much more. \nCurrently\, there are no quotas on each Lodge\, but as always\, we want to maximize youth participation. Our goal is to fill our bus rental with at least 50 Shenandoah Arrowmen…so please register as soon as possible to reserve your seat! \nThe cost to attend NOAC is comprised of two parts – the base event fee (food\, housing\, and activities while at the event) and contingent fee (round-trip bus transportation and SWAG). \nBASE EVENT FEE \nThe Base Event Fee is the amount that National charges the Lodge to register attendees. In order to make attending NOAC more affordable and to provide Arrowmen and their families more flexibility in making payments\, National is offering a tiered pricing system for 2022. \nEarly Bird Pricing: $575.00\nSign up and pay the total base event fee of $575 by December 12\, 2021 and you will receive the lowest rate. **This equates to a commitment to attend\, and the entire payment is NON-REFUNDABLE.** An additional contingent fee will be due later (see Contingent Fee below). \nRegular Pricing: $625.00 \nIf you sign up and pay after December 12th\, OR do not want to commit for the early bird pricing\, you will pay the regular price for the base event fee. The Lodge will charge a $100 non-refundable deposit as part of an overall payment plan. An additional contingent fee will be due later (see Contingent Fee below). \nCONTINGENT FEE \n$TBD. This fee is for contingent transportation and SWAG (patches and t-shirts; possibly neckerchiefs\, hats\, bags\, and/or water bottles) is still being determined. \nThe GOAL of the contingent leadership is to keep the final/overall cost at $1\,000.00 or less. The contingent will explore various fundraising opportunities to reduce the cost as much as possible. \nADDITIONAL DETAILS \n1. Payment in full at time of registration is acceptable\, but for those who wish to make incremental payments\, we suggest the following schedule: \nEarly Bird Delegate Fee PLUS Contingent Fee:\nPayment #1 – $100 deposit (non-refundable)\nPayment #2 – $475 due by Dec 12\, 2021 (non-refundable)\nPayment #3 – Contingent Fee due by May 15\, 2022 \nStandard Delegate Fee PLUS Contingent Fee:\nPayment #1 – $100 deposit (non-refundable)\nPayment #2 – $225 due by Jan 15\, 2022\nPayment #3 – $225 due by Mar 15\, 2022\nPayment #4 – $225 due by Apr 15\, 2022\nPayment #5 – $225 due by May 15\, 2022 (maybe adjusted due to final contingent fee) \n2. A current Annual Health and Medical Record form (parts A\, B\, & C) will be required for all attendees. Additionally\, a current Youth Protection certification will be required for all adults. \n3. Departure Date: Depart/Arrive Tennessee July 25; Return July 30 \n4. Contingent Meetings: TBD \n5. Youth Lead: TBD \n6. Advisers: Ms. Liz Harman and Mr. John Lindegren \n7. NOAC Website | Promotional Flyer
URL:https://www.shenandoahlodge.org/event/noac-2022/
LOCATION:University of Tennessee\, Knoxville\, TN\, Knoxville\, 37996\, United States
CATEGORIES:Lodge Wide Event,National Events
ATTACH;FMTTYPE=image/png:https://www.shenandoahlodge.org/wp-content/uploads/2021/09/NOAC.png
END:VEVENT
BEGIN:VEVENT
DTSTART;TZID=America/New_York:20220603T170000
DTEND;TZID=America/New_York:20220605T100000
DTSTAMP:20260421T102352
CREATED:20211123T195239Z
LAST-MODIFIED:20220528T145750Z
UID:4113-1654275600-1654423200@www.shenandoahlodge.org
SUMMARY:June Inductions 2022
DESCRIPTION:Join us at Camp Shenandoah for our first induction opportunity of the year! We will be offering the opportunity to complete your Ordeal and Brotherhood.
URL:https://www.shenandoahlodge.org/event/june-inductions-2022/
LOCATION:VA
CATEGORIES:Lodge Wide Event
ATTACH;FMTTYPE=image/png:https://www.shenandoahlodge.org/wp-content/uploads/2021/08/2021-Conclave-Background.png
END:VEVENT
BEGIN:VEVENT
DTSTART;TZID=America/New_York:20220429T120000
DTEND;TZID=America/New_York:20220501T120000
DTSTAMP:20260421T102352
CREATED:20211203T183827Z
LAST-MODIFIED:20220203T185718Z
UID:4171-1651233600-1651406400@www.shenandoahlodge.org
SUMMARY:Conclave 2022 (Camp Shenandoah)
DESCRIPTION:Conclave is the gathering of our OA Section\, hosted by each lodge in rotation. 2022 Shenandoah Lodge is host\, and we need all hands on deck. Registration is on the sections website\, here.
URL:https://www.shenandoahlodge.org/event/conclave-2022/
LOCATION:Camp Shenandoah\, 222 Boy Scout Lane\, Swoope\, VA\, 24479\, United States
CATEGORIES:Lodge Wide Event,Section Events
ATTACH;FMTTYPE=image/png:https://www.shenandoahlodge.org/wp-content/uploads/2021/12/E9-A-Leap-Towards-Tomorrow-Logo_Square-300x300-1.png
END:VEVENT
BEGIN:VEVENT
DTSTART;TZID=America/New_York:20220325T170000
DTEND;TZID=America/New_York:20220327T100000
DTSTAMP:20260421T102352
CREATED:20211204T183337Z
LAST-MODIFIED:20220324T023039Z
UID:4108-1648227600-1648375200@www.shenandoahlodge.org
SUMMARY:Spring Fellowship 2022
DESCRIPTION:Join us at camp for a fellowship dedicated to preparing for Conclave\, featuring Golden Arrow Activities and Spirit Prep
URL:https://www.shenandoahlodge.org/event/spring-fellowship-2022/
LOCATION:Camp Shenandoah\, 222 Boy Scout Lane\, Swoope\, VA\, 24479\, United States
CATEGORIES:Lodge Wide Event
ATTACH;FMTTYPE=image/png:https://www.shenandoahlodge.org/wp-content/uploads/2021/08/2021-Conclave-Background.png
END:VEVENT
BEGIN:VEVENT
DTSTART;TZID=America/New_York:20220203T080000
DTEND;TZID=America/New_York:20220203T170000
DTSTAMP:20260421T102352
CREATED:20220203T184753Z
LAST-MODIFIED:20220203T184753Z
UID:4796-1643875200-1643907600@www.shenandoahlodge.org
SUMMARY:Council Dock Workday
DESCRIPTION:The Properties Committee is inviting any interested parties to join us for a workday at camp on February 12\, with a rain date on February 19. The primary job is tearing up the carpeting on the docks and pulling up any rotten boards so all that can be replaced. In addition\, there is a bunch of wood to split and stack in maintenance and some other projects.
URL:https://www.shenandoahlodge.org/event/council-dock-workday/
LOCATION:VA
END:VEVENT
BEGIN:VEVENT
DTSTART;TZID=America/New_York:20220108T140000
DTEND;TZID=America/New_York:20220108T160000
DTSTAMP:20260421T102352
CREATED:20211116T180857Z
LAST-MODIFIED:20220101T103812Z
UID:4081-1641650400-1641657600@www.shenandoahlodge.org
SUMMARY:Winter Social 2022
DESCRIPTION:A Celebration of 2021\nJoin us for an afternoon of recognition for the achievements of the Lodge in 2021. We will be at Tinkling Spring Presbyterian Church from 2-4\, recognizing those Arrowmen who have received esteemed awards and joining together for an afternoon of fellowship. \n  \nThere is a hard registration cap at 125 people\, so there will be NO onsite registration. We would ask that all are conscious and respectful of others when registering guests as space is limited.
URL:https://www.shenandoahlodge.org/event/winter-banquet/
LOCATION:Tinkling Spring Presbyterian Church\, 30 Tinkling Spring Dr\,\, Fishersville\, VA\, 22939\, United States
CATEGORIES:Lodge Wide Event
ATTACH;FMTTYPE=image/png:https://www.shenandoahlodge.org/wp-content/uploads/2021/11/Winter-Banquet-Round-2021.png
END:VEVENT
BEGIN:VEVENT
DTSTART;VALUE=DATE:20220101
DTEND;VALUE=DATE:20230101
DTSTAMP:20260421T102352
CREATED:20211215T161724Z
LAST-MODIFIED:20211215T161724Z
UID:4263-1640995200-1672531199@www.shenandoahlodge.org
SUMMARY:2022 Dues
DESCRIPTION:Annual dues for members
URL:https://www.shenandoahlodge.org/event/2022-dues/
LOCATION:VA
END:VEVENT
BEGIN:VEVENT
DTSTART;TZID=America/New_York:20211106T090000
DTEND;TZID=America/New_York:20211106T150000
DTSTAMP:20260421T102352
CREATED:20210411T171241Z
LAST-MODIFIED:20211106T025730Z
UID:3170-1636189200-1636210800@www.shenandoahlodge.org
SUMMARY:One Day of Service
DESCRIPTION:For One Day of Service\, we will be working to collect native plant seeds for the restoration of natural areas in Virginia. Natural Heritage Staff will instruct us on how to identify and then collect the seeds.  This time of year the seed heads will be approximately waist-high\, so collection should be easy.  This is very important work because it will help with the re-establishment of native species in the work to restore natural habitats. \nOur work will occur at the Cobane Natural Area Preserve (NAP) in Stuarts Draft\, Virginia. The Cowbane Prairie NAP protects outstanding examples of wet prairies\, mesic prairies\, and calcareous spring marshes which were once common natural communities in the Shenandoah Valley. These communities have been reduced over the years by agricultural and industrial development. Eleven rare plants including queen-of-the-prairie (Filipendula Rubra)\, blue flag iris (Iris versicolor)\, and marsh-speedwell are found at the preserve. Additionally\, a reach of the South River within Cowbane Prairie NAP also provides a habitat for two watchlisted freshwater mussel species.
URL:https://www.shenandoahlodge.org/event/one-day-of-service-2021/
LOCATION:VA
CATEGORIES:Lodge Wide Event
ATTACH;FMTTYPE=image/jpeg:https://www.shenandoahlodge.org/wp-content/uploads/2019/11/slider_image_totembanner.jpg
END:VEVENT
BEGIN:VEVENT
DTSTART;TZID=America/New_York:20211022T170000
DTEND;TZID=America/New_York:20211024T110000
DTSTAMP:20260421T102352
CREATED:20210411T170924Z
LAST-MODIFIED:20211004T195416Z
UID:3164-1634922000-1635073200@www.shenandoahlodge.org
SUMMARY:Fall Fellowship & Induction 2021
DESCRIPTION:
URL:https://www.shenandoahlodge.org/event/fall-fellowship-induction/
LOCATION:Camp Shenandoah\, 222 Boy Scout Lane\, Swoope\, VA\, 24479\, United States
CATEGORIES:Lodge Wide Event
ATTACH;FMTTYPE=image/jpeg:https://www.shenandoahlodge.org/wp-content/uploads/2019/11/slider_image_totembanner.jpg
END:VEVENT
BEGIN:VEVENT
DTSTART;TZID=America/New_York:20210917T170000
DTEND;TZID=America/New_York:20210919T100000
DTSTAMP:20260421T102352
CREATED:20200920T235426Z
LAST-MODIFIED:20210614T191513Z
UID:2824-1631898000-1632045600@www.shenandoahlodge.org
SUMMARY:Conclave 2021
DESCRIPTION:Go Register for Conclave 2021 as soon as possible so we can build our awesome contingent team!
URL:https://www.shenandoahlodge.org/event/conclave-2021/
LOCATION:Pipsico Scout Reservation\, 57 Pipsico Rd\, Spring Grove\, Spring Grove\, VA\, 23881\, United States
CATEGORIES:Section Events
ATTACH;FMTTYPE=image/png:https://www.shenandoahlodge.org/wp-content/uploads/2020/09/Logo_FINAL.png
END:VEVENT
BEGIN:VEVENT
DTSTART;TZID=America/New_York:20210813T170000
DTEND;TZID=America/New_York:20210815T110000
DTSTAMP:20260421T102352
CREATED:20210411T170809Z
LAST-MODIFIED:20210813T011431Z
UID:3161-1628874000-1629025200@www.shenandoahlodge.org
SUMMARY:August Fellowship\, Induction\, & Vigil Callout
DESCRIPTION:Our August Fellowship is one of the largest events of the year. We will be performing our regular Ordeal induction\, our Brotherhood conversion\, and the Vigil Honor callout. This is also one of the two official Lodge business meetings for the year\, along with lots of fun and fellowship!
URL:https://www.shenandoahlodge.org/event/august-fellowship-induction-vigil-callout/
LOCATION:Camp Shenandoah\, 222 Boy Scout Lane\, Swoope\, VA\, 24479\, United States
CATEGORIES:Lodge Wide Event
ATTACH;FMTTYPE=image/jpeg:https://www.shenandoahlodge.org/wp-content/uploads/2019/11/slider_image_totembanner.jpg
END:VEVENT
BEGIN:VEVENT
DTSTART;TZID=America/New_York:20210812T190000
DTEND;TZID=America/New_York:20210812T220000
DTSTAMP:20260421T102352
CREATED:20210614T144108Z
LAST-MODIFIED:20210802T144353Z
UID:3450-1628794800-1628805600@www.shenandoahlodge.org
SUMMARY:Saponi August Pool Party - NEW DATE!!
DESCRIPTION:Please note the new date!  We’ll meet at 7pm on August 12 on the deck inside the water park. From 7-8 pm\, we’ll discuss Chapter elections\, eat pizza\, and fellowship.  From 8-10 pm\, the Waterpark is open!  Cost will be $5.00.  Pay at the event.  Look forward to seeing everyone there!
URL:https://www.shenandoahlodge.org/event/august-pool-party/
LOCATION:ACAC Water Park\, 200 Four Seasons Drive\, Charlottesville\, VA\, 22901\, United States
CATEGORIES:Saponi Chapter Meetings
END:VEVENT
BEGIN:VEVENT
DTSTART;TZID=America/New_York:20210611T170000
DTEND;TZID=America/New_York:20210613T110000
DTSTAMP:20260421T102352
CREATED:20210411T170126Z
LAST-MODIFIED:20210605T175043Z
UID:3154-1623430800-1623582000@www.shenandoahlodge.org
SUMMARY:June Fellowship & Induction
DESCRIPTION:More information to follow soon. \nLate fee applied on the day 1 week before the event. No late fee for Ordeals.
URL:https://www.shenandoahlodge.org/event/june-fellowship-induction/
LOCATION:Camp Shenandoah\, 222 Boy Scout Lane\, Swoope\, VA\, 24479\, United States
CATEGORIES:Lodge Wide Event
ATTACH;FMTTYPE=image/jpeg:https://www.shenandoahlodge.org/wp-content/uploads/2019/11/slider_image_totembanner.jpg
END:VEVENT
BEGIN:VEVENT
DTSTART;TZID=America/New_York:20210609T190000
DTEND;TZID=America/New_York:20210609T200000
DTSTAMP:20260421T102352
CREATED:20210609T132032Z
LAST-MODIFIED:20210609T132032Z
UID:3406-1623265200-1623268800@www.shenandoahlodge.org
SUMMARY:Saponi Chapter Meeting
DESCRIPTION:Help us kick off the summer IN PERSON!  The Saponi Chapter will be meeting for our June Chapter meeting on 9 June at 7pm. We’ll be meeting at the campfire circle at the Botanical Gardens of the Piedmont\, 950 Melbourne Road\, Charlottesville\, VA. 22902.  Parking is available on Melbourne Road adjacent to Charlottesville High School Football Stadium.  Spread the word to your units and bring some new members along. \nLooking forward to seeing everyone face to face!
URL:https://www.shenandoahlodge.org/event/saponi-chapter-meeting-4/
LOCATION:Botanical Garden of the Piedmont\, 950 Melbourne Road\, Charlottesville\, VA\, 22902\, United States
CATEGORIES:Saponi Chapter Meetings
END:VEVENT
BEGIN:VEVENT
DTSTART;VALUE=DATE:20210519
DTEND;VALUE=DATE:20220101
DTSTAMP:20260421T102352
CREATED:20210520T011232Z
LAST-MODIFIED:20210910T195653Z
UID:3246-1621382400-1640995199@www.shenandoahlodge.org
SUMMARY:2021 Dues
DESCRIPTION:Annual dues for members.
URL:https://www.shenandoahlodge.org/event/2021-dues/
LOCATION:VA
CATEGORIES:Lodge Wide Event
END:VEVENT
BEGIN:VEVENT
DTSTART;TZID=America/New_York:20210515T100000
DTEND;TZID=America/New_York:20210515T160000
DTSTAMP:20260421T102352
CREATED:20210411T170706Z
LAST-MODIFIED:20210511T165401Z
UID:3152-1621072800-1621094400@www.shenandoahlodge.org
SUMMARY:Council Dinner Set-up & Fun Day
DESCRIPTION:The Lodge will be helping to setup the Council Dinner at Camp Shenandoah on the following day. We will also be holding our LEC at the Camp during the event. Bring your own food. No fee\, but please let us know that you’re attending!
URL:https://www.shenandoahlodge.org/event/council-dinner-set-up-fun-day/
LOCATION:Camp Shenandoah\, 222 Boy Scout Lane\, Swoope\, VA\, 24479\, United States
CATEGORIES:Lodge Wide Event
ATTACH;FMTTYPE=image/jpeg:https://www.shenandoahlodge.org/wp-content/uploads/2019/11/slider_image_lakehope.jpg
END:VEVENT
BEGIN:VEVENT
DTSTART;TZID=America/New_York:20210512T190000
DTEND;TZID=America/New_York:20210512T200000
DTSTAMP:20260421T102352
CREATED:20210502T144630Z
LAST-MODIFIED:20210508T170633Z
UID:2623-1620846000-1620849600@www.shenandoahlodge.org
SUMMARY:May Saponi Chapter Meeting
DESCRIPTION:  \nJoin us for our monthly Chapter meeting by clicking here:  Zoom Link
URL:https://www.shenandoahlodge.org/event/saponi-chapter-meeting-3/
LOCATION:Virtual
CATEGORIES:Saponi Chapter Meetings
END:VEVENT
BEGIN:VEVENT
DTSTART;VALUE=DATE:20210423
DTEND;VALUE=DATE:20210426
DTSTAMP:20260421T102352
CREATED:20210411T165312Z
LAST-MODIFIED:20210411T165312Z
UID:3147-1619136000-1619395199@www.shenandoahlodge.org
SUMMARY:National Virtual Event Momentum Discover
DESCRIPTION:The Order of the Arrow’s national leadership invites you to join us for Momentum: Discover\, a national virtual event taking place from April 23-24! After months of isolation and quarantine\, it’s time to get back into the outdoors! At Momentum: Discover\, we’ll come together as a movement to prepare for a successful summer camp season and recommit ourselves to the joys of camping and the outdoors. \nCurrent OA members and non-Arrowmen are encouraged to join us for a weekend of fun\, trainings\, competitions\, games\, and more! With more than 20 hours of original programming\, you surely won’t want to miss out on exciting updates and interactive games with your 2021 national officers. \nAnyone can view the live stream of the Momentum: Discover content at no cost\, and no registration is required. The programming will be publicly available online. However\, premium delegates\, for a fee of $25\, will receive exclusive benefits during this special event experience\, including: \n\nA mailed patch and sticker.\nAccess to an archive of streamed program content to view anytime.\nA chance to participate in the event-wide game.\nAccess to the Momentum community platform\, Slack\, to connect with Arrowmen from across the nation.\nAdditional opportunities for engagement and interaction.\n\nWe hope to see you at Momentum: Discover in April! Registration is now open at registration.oa-bsa.org.
URL:https://www.shenandoahlodge.org/event/national-virtual-event-momentum-discover/
LOCATION:Virtual
CATEGORIES:National Events
ATTACH;FMTTYPE=image/jpeg:https://www.shenandoahlodge.org/wp-content/uploads/2021/04/momentum_discover.jpg
END:VEVENT
BEGIN:VEVENT
DTSTART;TZID=America/New_York:20210409T170000
DTEND;TZID=America/New_York:20210410T210000
DTSTAMP:20260421T102352
CREATED:20210319T225055Z
LAST-MODIFIED:20210319T225124Z
UID:3087-1617987600-1618088400@www.shenandoahlodge.org
SUMMARY:Spring Fellowship 2021
DESCRIPTION:Register Here – https://events.r20.constantcontact.com/register/eventReg?oeidk=a07ehjq8o0ta5dcd3bb&oseq=&c=&ch=
URL:https://www.shenandoahlodge.org/event/spring-fellowship-2021/
LOCATION:Camp Shenandoah\, 222 Boy Scout Lane\, Swoope\, VA\, 24479\, United States
CATEGORIES:Lodge Wide Event
END:VEVENT
BEGIN:VEVENT
DTSTART;TZID=America/New_York:20210312T190000
DTEND;TZID=America/New_York:20210313T190000
DTSTAMP:20260421T102352
CREATED:20201219T154923Z
LAST-MODIFIED:20210227T184046Z
UID:2873-1615575600-1615662000@www.shenandoahlodge.org
SUMMARY:FORGE
DESCRIPTION:
URL:https://www.shenandoahlodge.org/event/forge/
LOCATION:Virtual
CATEGORIES:Lodge Wide Event
ORGANIZER;CN="Eli Hattersley":MAILTO:chief@shenandoahlodge.org
END:VEVENT
BEGIN:VEVENT
DTSTART;TZID=America/New_York:20210116T190000
DTEND;TZID=America/New_York:20210116T200000
DTSTAMP:20260421T102352
CREATED:20201219T155049Z
LAST-MODIFIED:20210116T234414Z
UID:2878-1610823600-1610827200@www.shenandoahlodge.org
SUMMARY:Winter Banquet 2021
DESCRIPTION:Which design would you like to see on our new Elangomat flap?\n	\n		\n	\n		 Bear Mountain Scene\n	\n\n	\n		 Green Bear\n	\n\n	\n	Results\nPoll Options are limited because JavaScript is disabled in your browser.\n\n\n  \n    \n    \n    \n    \n  \n  \n    \n    \n    \n    \n  \n  \n    \n    \n    \n    \n  \n\n\n\nTap picture to enlarge! \nGreen Bear \nMountain Scene
URL:https://www.shenandoahlodge.org/event/winter-banquet-2021/
LOCATION:Virtual
CATEGORIES:Lodge Wide Event
ORGANIZER;CN="Eli Hattersley":MAILTO:chief@shenandoahlodge.org
END:VEVENT
BEGIN:VEVENT
DTSTART;VALUE=DATE:20201107
DTEND;VALUE=DATE:20201108
DTSTAMP:20260421T102352
CREATED:20200422T204521Z
LAST-MODIFIED:20200422T204521Z
UID:2452-1604707200-1604793599@www.shenandoahlodge.org
SUMMARY:One Day of Service
DESCRIPTION:Details to come soon!
URL:https://www.shenandoahlodge.org/event/one-day-of-service-2/
LOCATION:VA
END:VEVENT
BEGIN:VEVENT
DTSTART;TZID=America/New_York:20201016T190000
DTEND;TZID=America/New_York:20201017T110000
DTSTAMP:20260421T102352
CREATED:20200422T204429Z
LAST-MODIFIED:20201010T154341Z
UID:2449-1602874800-1602932400@www.shenandoahlodge.org
SUMMARY:Fall Fellowship 2020
DESCRIPTION:The last fellowship of the year\, with the final Ordeal and Brotherhood opportunities for 2020. Please note that the Ordeal will end at 11 AM on Saturday!  The Lodge Fellowship will take place from 1PM to 7PM on Saturday. Email chief@shenandoahlodge.org with any questions.
URL:https://www.shenandoahlodge.org/event/fall-fellowship-2020/
LOCATION:Camp Shenandoah\, 222 Boy Scout Lane\, Swoope\, VA\, 24479\, United States
END:VEVENT
BEGIN:VEVENT
DTSTART;TZID=America/New_York:20200909T190000
DTEND;TZID=America/New_York:20200909T200000
DTSTAMP:20260421T102352
CREATED:20191128T174002Z
LAST-MODIFIED:20200618T172731Z
UID:314-1599678000-1599681600@www.shenandoahlodge.org
SUMMARY:Saponi Chapter Meeting
DESCRIPTION:
URL:https://www.shenandoahlodge.org/event/saponi-chapter-meeting/
LOCATION:Westminister Presbyterian Church.\, 400 Rugby Road\, Charlottesville\, VA\, 22903\, United States
CATEGORIES:Saponi Chapter Meetings
END:VEVENT
BEGIN:VEVENT
DTSTART;TZID=America/New_York:20200908T190000
DTEND;TZID=America/New_York:20200908T200000
DTSTAMP:20260421T102352
CREATED:20191128T165305Z
LAST-MODIFIED:20200618T172655Z
UID:306-1599591600-1599595200@www.shenandoahlodge.org
SUMMARY:Monocan Chapter Meeting
DESCRIPTION:
URL:https://www.shenandoahlodge.org/event/monocan-chapter-meeting/
LOCATION:Asbury United Methodist Church\, 205 S Main St\, Harrisonburg\, VA\, 22801\, United States
CATEGORIES:Monocan Chapter Meetings
END:VEVENT
END:VCALENDAR